BEGIN:VCALENDAR
VERSION:2.0
PRODID:-//Doe Mountain Recreation Area - ECPv6.15.20//NONSGML v1.0//EN
CALSCALE:GREGORIAN
METHOD:PUBLISH
X-WR-CALNAME:Doe Mountain Recreation Area
X-ORIGINAL-URL:https://dmra.gov
X-WR-CALDESC:Events for Doe Mountain Recreation Area
REFRESH-INTERVAL;VALUE=DURATION:PT1H
X-Robots-Tag:noindex
X-PUBLISHED-TTL:PT1H
BEGIN:VTIMEZONE
TZID:America/Chicago
BEGIN:DAYLIGHT
TZOFFSETFROM:-0600
TZOFFSETTO:-0500
TZNAME:CDT
DTSTART:20250309T080000
END:DAYLIGHT
BEGIN:STANDARD
TZOFFSETFROM:-0500
TZOFFSETTO:-0600
TZNAME:CST
DTSTART:20251102T070000
END:STANDARD
BEGIN:DAYLIGHT
TZOFFSETFROM:-0600
TZOFFSETTO:-0500
TZNAME:CDT
DTSTART:20260308T080000
END:DAYLIGHT
BEGIN:STANDARD
TZOFFSETFROM:-0500
TZOFFSETTO:-0600
TZNAME:CST
DTSTART:20261101T070000
END:STANDARD
BEGIN:DAYLIGHT
TZOFFSETFROM:-0600
TZOFFSETTO:-0500
TZNAME:CDT
DTSTART:20270314T080000
END:DAYLIGHT
BEGIN:STANDARD
TZOFFSETFROM:-0500
TZOFFSETTO:-0600
TZNAME:CST
DTSTART:20271107T070000
END:STANDARD
END:VTIMEZONE
BEGIN:VEVENT
DTSTART;TZID=America/Chicago:20260504T183000
DTEND;TZID=America/Chicago:20260504T193000
DTSTAMP:20260419T114727
CREATED:20251210T164802Z
LAST-MODIFIED:20260402T205514Z
UID:10000132-1777919400-1777923000@dmra.gov
SUMMARY:Cherokee Ethnobotany Walk
DESCRIPTION:Learn how the Cherokee tribe and early settlers lived in relation to the natural world around them in this place we now call home.
URL:https://dmra.gov/event/cherokee-ethnobotany-walk/
END:VEVENT
END:VCALENDAR