BEGIN:VCALENDAR
VERSION:2.0
PRODID:-//Doe Mountain Recreation Area - ECPv6.15.20//NONSGML v1.0//EN
CALSCALE:GREGORIAN
METHOD:PUBLISH
X-ORIGINAL-URL:https://dmra.gov
X-WR-CALDESC:Events for Doe Mountain Recreation Area
REFRESH-INTERVAL;VALUE=DURATION:PT1H
X-Robots-Tag:noindex
X-PUBLISHED-TTL:PT1H
BEGIN:VTIMEZONE
TZID:America/Chicago
BEGIN:DAYLIGHT
TZOFFSETFROM:-0600
TZOFFSETTO:-0500
TZNAME:CDT
DTSTART:20250309T080000
END:DAYLIGHT
BEGIN:STANDARD
TZOFFSETFROM:-0500
TZOFFSETTO:-0600
TZNAME:CST
DTSTART:20251102T070000
END:STANDARD
BEGIN:DAYLIGHT
TZOFFSETFROM:-0600
TZOFFSETTO:-0500
TZNAME:CDT
DTSTART:20260308T080000
END:DAYLIGHT
BEGIN:STANDARD
TZOFFSETFROM:-0500
TZOFFSETTO:-0600
TZNAME:CST
DTSTART:20261101T070000
END:STANDARD
BEGIN:DAYLIGHT
TZOFFSETFROM:-0600
TZOFFSETTO:-0500
TZNAME:CDT
DTSTART:20270314T080000
END:DAYLIGHT
BEGIN:STANDARD
TZOFFSETFROM:-0500
TZOFFSETTO:-0600
TZNAME:CST
DTSTART:20271107T070000
END:STANDARD
END:VTIMEZONE
BEGIN:VEVENT
DTSTART;TZID=America/Chicago:20260713T183000
DTEND;TZID=America/Chicago:20260713T193000
DTSTAMP:20260419T202359
CREATED:20251210T164956Z
LAST-MODIFIED:20251210T164956Z
UID:10000134-1783967400-1783971000@dmra.gov
SUMMARY:Mushroom Walk
DESCRIPTION:
URL:https://dmra.gov/event/mushroom-walk/
END:VEVENT
BEGIN:VEVENT
DTSTART;TZID=America/Chicago:20260810T183000
DTEND;TZID=America/Chicago:20260810T193000
DTSTAMP:20260419T202359
CREATED:20251210T165108Z
LAST-MODIFIED:20251210T165108Z
UID:10000135-1786386600-1786390200@dmra.gov
SUMMARY:Native Tree & Butterflies Walk
DESCRIPTION:
URL:https://dmra.gov/event/native-tree-butterflies-walk/
END:VEVENT
BEGIN:VEVENT
DTSTART;TZID=America/Chicago:20260829T200000
DTEND;TZID=America/Chicago:20260829T220000
DTSTAMP:20260419T202359
CREATED:20260122T142528Z
LAST-MODIFIED:20260304T125938Z
UID:10000147-1788033600-1788040800@dmra.gov
SUMMARY:Thrill After Sundown Night Ride
DESCRIPTION:
URL:https://dmra.gov/event/thrill-after-sundown-night-ride-5/
LOCATION:DMRA Adventure Center\, 1203 Harbin Hill Rd\, Mountain City\, TN\, 12601\, United States
END:VEVENT
BEGIN:VEVENT
DTSTART;TZID=America/Chicago:20260914T180000
DTEND;TZID=America/Chicago:20260914T190000
DTSTAMP:20260419T202359
CREATED:20251210T165216Z
LAST-MODIFIED:20251210T165216Z
UID:10000136-1789408800-1789412400@dmra.gov
SUMMARY:Pollinator Walk
DESCRIPTION:
URL:https://dmra.gov/event/pollinator-walk/
END:VEVENT
BEGIN:VEVENT
DTSTART;TZID=America/Chicago:20261017T100000
DTEND;TZID=America/Chicago:20261017T110000
DTSTAMP:20260419T202359
CREATED:20251210T165325Z
LAST-MODIFIED:20251210T165325Z
UID:10000137-1792231200-1792234800@dmra.gov
SUMMARY:Leaf Walk
DESCRIPTION:
URL:https://dmra.gov/event/leaf-walk/
END:VEVENT
BEGIN:VEVENT
DTSTART;VALUE=DATE:20261031
DTEND;VALUE=DATE:20261101
DTSTAMP:20260419T202359
CREATED:20251217T193225Z
LAST-MODIFIED:20251217T193737Z
UID:10000142-1793404800-1793491199@dmra.gov
SUMMARY:Spooktacular & Thrill After Sundown - Night Ride
DESCRIPTION:
URL:https://dmra.gov/event/spooktacular-night-ride-2/
LOCATION:DMRA Adventure Center\, 1203 Harbin Hill Rd\, Mountain City\, TN\, 12601\, United States
END:VEVENT
BEGIN:VEVENT
DTSTART;VALUE=DATE:20261107
DTEND;VALUE=DATE:20261108
DTSTAMP:20260419T202359
CREATED:20251217T192824Z
LAST-MODIFIED:20251217T192824Z
UID:10000140-1794009600-1794095999@dmra.gov
SUMMARY:Veterans Run - 8K/2K
DESCRIPTION:
URL:https://dmra.gov/event/veterans-run-8k-2k/
LOCATION:DMRA Adventure Center\, 1203 Harbin Hill Rd\, Mountain City\, TN\, 12601\, United States
END:VEVENT
BEGIN:VEVENT
DTSTART;VALUE=DATE:20261205
DTEND;VALUE=DATE:20261206
DTSTAMP:20260419T202359
CREATED:20251217T193023Z
LAST-MODIFIED:20251217T193023Z
UID:10000141-1796428800-1796515199@dmra.gov
SUMMARY:Toy Drive
DESCRIPTION:
URL:https://dmra.gov/event/toy-drive-2/
LOCATION:DMRA Adventure Center\, 1203 Harbin Hill Rd\, Mountain City\, TN\, 12601\, United States
END:VEVENT
END:VCALENDAR