BEGIN:VCALENDAR
VERSION:2.0
PRODID:-//Doe Mountain Recreation Area - ECPv6.15.20//NONSGML v1.0//EN
CALSCALE:GREGORIAN
METHOD:PUBLISH
X-WR-CALNAME:Doe Mountain Recreation Area
X-ORIGINAL-URL:https://dmra.gov
X-WR-CALDESC:Events for Doe Mountain Recreation Area
REFRESH-INTERVAL;VALUE=DURATION:PT1H
X-Robots-Tag:noindex
X-PUBLISHED-TTL:PT1H
BEGIN:VTIMEZONE
TZID:America/Chicago
BEGIN:DAYLIGHT
TZOFFSETFROM:-0600
TZOFFSETTO:-0500
TZNAME:CDT
DTSTART:20240310T080000
END:DAYLIGHT
BEGIN:STANDARD
TZOFFSETFROM:-0500
TZOFFSETTO:-0600
TZNAME:CST
DTSTART:20241103T070000
END:STANDARD
BEGIN:DAYLIGHT
TZOFFSETFROM:-0600
TZOFFSETTO:-0500
TZNAME:CDT
DTSTART:20250309T080000
END:DAYLIGHT
BEGIN:STANDARD
TZOFFSETFROM:-0500
TZOFFSETTO:-0600
TZNAME:CST
DTSTART:20251102T070000
END:STANDARD
BEGIN:DAYLIGHT
TZOFFSETFROM:-0600
TZOFFSETTO:-0500
TZNAME:CDT
DTSTART:20260308T080000
END:DAYLIGHT
BEGIN:STANDARD
TZOFFSETFROM:-0500
TZOFFSETTO:-0600
TZNAME:CST
DTSTART:20261101T070000
END:STANDARD
BEGIN:DAYLIGHT
TZOFFSETFROM:-0600
TZOFFSETTO:-0500
TZNAME:CDT
DTSTART:20270314T080000
END:DAYLIGHT
BEGIN:STANDARD
TZOFFSETFROM:-0500
TZOFFSETTO:-0600
TZNAME:CST
DTSTART:20271107T070000
END:STANDARD
END:VTIMEZONE
BEGIN:VEVENT
DTSTART;TZID=America/Chicago:20260201T180000
DTEND;TZID=America/Chicago:20260201T190000
DTSTAMP:20260419T203847
CREATED:20251210T164203Z
LAST-MODIFIED:20260121T195754Z
UID:10000128-1769968800-1769972400@dmra.gov
SUMMARY:Full Moon Silent Hike (2 mile loop)
DESCRIPTION:Silent Full Moon Hike | Facebook
URL:https://dmra.gov/event/full-moon-silent-hike-2-mile-loop/
LOCATION:TN
END:VEVENT
BEGIN:VEVENT
DTSTART;TZID=America/Chicago:20260101T100000
DTEND;TZID=America/Chicago:20260101T120000
DTSTAMP:20260419T203847
CREATED:20251210T164639Z
LAST-MODIFIED:20251210T164639Z
UID:10000131-1767261600-1767268800@dmra.gov
SUMMARY:First Day Hike
DESCRIPTION:Jen will lead the hike beginning at 10am. There will be a 4 mile and 2-mile loop option. There is no need to sign up\, but folks need either a day pass or an annual pass.
URL:https://dmra.gov/event/first-day-hike/
LOCATION:TN
END:VEVENT
BEGIN:VEVENT
DTSTART;VALUE=DATE:20251206
DTEND;VALUE=DATE:20251207
DTSTAMP:20260419T203847
CREATED:20250311T155436Z
LAST-MODIFIED:20250311T155436Z
UID:10000117-1764979200-1765065599@dmra.gov
SUMMARY:DMRA Annual Toy Drive
DESCRIPTION:
URL:https://dmra.gov/event/dmra-annual-toy-drive/
LOCATION:DMRA Adventure Center\, 1203 Harbin Hill Rd\, Mountain City\, TN\, 12601\, United States
END:VEVENT
BEGIN:VEVENT
DTSTART;TZID=America/Chicago:20251108T100000
DTEND;TZID=America/Chicago:20251108T140000
DTSTAMP:20260419T203847
CREATED:20250212T124229Z
LAST-MODIFIED:20251007T142459Z
UID:10000112-1762596000-1762610400@dmra.gov
SUMMARY:Veterans Trail Challenge
DESCRIPTION:For more information and previous results visit https://dmra.gov/veterans-trail-run \nCLICK HERE to Register for this event!
URL:https://dmra.gov/event/veterans-trail-challenge/
LOCATION:DMRA Adventure Center\, 1203 Harbin Hill Rd\, Mountain City\, TN\, 12601\, United States
END:VEVENT
BEGIN:VEVENT
DTSTART;TZID=America/Chicago:20251025T190000
DTEND;TZID=America/Chicago:20251025T220000
DTSTAMP:20260419T203847
CREATED:20250311T155329Z
LAST-MODIFIED:20250311T155531Z
UID:10000116-1761418800-1761429600@dmra.gov
SUMMARY:DMRA Spooktacular Night Ride
DESCRIPTION:
URL:https://dmra.gov/event/spooktacular-night-ride/
LOCATION:DMRA Adventure Center\, 1203 Harbin Hill Rd\, Mountain City\, TN\, 12601\, United States
END:VEVENT
BEGIN:VEVENT
DTSTART;TZID=America/Chicago:20251024T183000
DTEND;TZID=America/Chicago:20251024T203000
DTSTAMP:20260419T203847
CREATED:20250905T121405Z
LAST-MODIFIED:20250905T121723Z
UID:10000126-1761330600-1761337800@dmra.gov
SUMMARY:Autumn Lantern Walk with Jen
DESCRIPTION:Dusk falls\, the air is brisk\, and the sounds of the forest come to life in a different way. Experience the beauty of Doe Mountain at night by the soft\, warm glow of lantern light\n\n\n\nWhen: Friday\, September 26th at 7 p.m and Friday\, October 24th at 6:30 p.m – weather permitting\n\n\n\nWhere: Doe Mountain Recreation Area located at 1203 Harbin Hill\, Mountain City TN.\n\n\n\nSave the date so you can save your spot as Registration is required for this event! In order to do so\, just give us a call at 423-460-1295 between the hours of 8 a.m and 4:30 p.m\, any day of the week! Or give us a visit in person and we’ll sign ya right up \n\n\n\nThere will only be 16 hikers permitted for the lantern walk\, must be 12 years of age or older. This is a two mile hike! Closed-toe shoes suitable for hiking are recommended\, as well as weather-appropriate clothing.\n\nLanterns will be provided! For the comfort of all\, no other source of light is permitted (headlamps\, flashlights\, etc.)\n\n\n\nDoe Mountain Annual Pass holders are free\, otherwise a day or annual pass is required to participate. Passes can be purchased online at: https://dmra.gov/\n\nDMRA Waivers required for all hikers\nhttps://waiver.smartwaiver.com/w/wvujn19nk2mezbgnmb2ymw/web/
URL:https://dmra.gov/event/autumn-lantern-walk-with-jen/2025-10-24/
LOCATION:DMRA Adventure Center\, 1203 Harbin Hill Rd\, Mountain City\, TN\, 12601\, United States
END:VEVENT
BEGIN:VEVENT
DTSTART;VALUE=DATE:20251004
DTEND;VALUE=DATE:20251006
DTSTAMP:20260419T203847
CREATED:20251002T150505Z
LAST-MODIFIED:20251003T172904Z
UID:10000111-1759536000-1759708799@dmra.gov
SUMMARY:Tri-State Cross Country Series Motorcycle Race
DESCRIPTION:Click Here to Register \n\n\n\n\n\n\n\n TSXCS Race Weekend Update \n\n\nGet ready—this Saturday & Sunday\, DMRA will be hosting\nanother exciting TSXCS Race on Doe Mountain! \n\nTo keep riders and racers safe\, portions of the trail system will be closed during race times. Please plan your riding weekend accordingly \n\n\n Help us spread the word! Share this post and tag your friends who may be riding this weekend.\n\nOpen Trails\n\n\nTrail 1 will be open to Trials Playground\, 17\, 317\, 23 and 21. Trail 11 to 411 to 15 is open to town\, but no further on Trail 15.\n\n\n\n Temporary Trail Closures:\nSaturday\, October 4th | 12 PM – 4 PM\nTrails: 1 past Trials Playground\, 18\, 22\, 20\, 16\, 15\, 13\, 421\, 117\, B3\, A6\, A2\, A4 and B2\n\n\nSunday\, October 5th | 9 AM – 3 PM\nTrails: 1 past Trials Playground\, 18\, 22\, 20\, 16\, 15\, 13\, 421\, 117\, B3\, A6\, A2\, A4 and B2\n\n\n\n Trails will be open before and after the races!\nAt DMRA\, our priority is safety and the best possible experience for all riders. Thank you for your cooperation\, and we’ll see you on the mountain!
URL:https://dmra.gov/event/tri-state-cross-country-series-motorcycle-race-3/
LOCATION:TN
END:VEVENT
BEGIN:VEVENT
DTSTART;TZID=America/Chicago:20250926T190000
DTEND;TZID=America/Chicago:20250926T210000
DTSTAMP:20260419T203847
CREATED:20250905T121405Z
LAST-MODIFIED:20250905T121723Z
UID:10000125-1758913200-1758920400@dmra.gov
SUMMARY:Autumn Lantern Walk with Jen
DESCRIPTION:Dusk falls\, the air is brisk\, and the sounds of the forest come to life in a different way. Experience the beauty of Doe Mountain at night by the soft\, warm glow of lantern light\n\n\n\nWhen: Friday\, September 26th at 7 p.m and Friday\, October 24th at 6:30 p.m – weather permitting\n\n\n\nWhere: Doe Mountain Recreation Area located at 1203 Harbin Hill\, Mountain City TN.\n\n\n\nSave the date so you can save your spot as Registration is required for this event! In order to do so\, just give us a call at 423-460-1295 between the hours of 8 a.m and 4:30 p.m\, any day of the week! Or give us a visit in person and we’ll sign ya right up \n\n\n\nThere will only be 16 hikers permitted for the lantern walk\, must be 12 years of age or older. This is a two mile hike! Closed-toe shoes suitable for hiking are recommended\, as well as weather-appropriate clothing.\n\nLanterns will be provided! For the comfort of all\, no other source of light is permitted (headlamps\, flashlights\, etc.)\n\n\n\nDoe Mountain Annual Pass holders are free\, otherwise a day or annual pass is required to participate. Passes can be purchased online at: https://dmra.gov/\n\nDMRA Waivers required for all hikers\nhttps://waiver.smartwaiver.com/w/wvujn19nk2mezbgnmb2ymw/web/
URL:https://dmra.gov/event/autumn-lantern-walk-with-jen/2025-09-26/
LOCATION:DMRA Adventure Center\, 1203 Harbin Hill Rd\, Mountain City\, TN\, 12601\, United States
END:VEVENT
BEGIN:VEVENT
DTSTART;TZID=America/Chicago:20250913T200000
DTEND;TZID=America/Chicago:20250913T220000
DTSTAMP:20260419T203847
CREATED:20250708T192800Z
LAST-MODIFIED:20250708T192800Z
UID:10000124-1757793600-1757800800@dmra.gov
SUMMARY:Thrill After Sundown Night Ride
DESCRIPTION:
URL:https://dmra.gov/event/thrill-after-sundown-night-ride/
LOCATION:DMRA Adventure Center\, 1203 Harbin Hill Rd\, Mountain City\, TN\, 12601\, United States
END:VEVENT
BEGIN:VEVENT
DTSTART;VALUE=DATE:20250912
DTEND;VALUE=DATE:20250915
DTSTAMP:20260419T203847
CREATED:20250226T143326Z
LAST-MODIFIED:20250226T143326Z
UID:10000114-1757635200-1757894399@dmra.gov
SUMMARY:Megan Griffiths Racing Clinic
DESCRIPTION:Register Here!
URL:https://dmra.gov/event/megan-griffiths-racing-clinic/
LOCATION:DMRA Adventure Center\, 1203 Harbin Hill Rd\, Mountain City\, TN\, 12601\, United States
END:VEVENT
BEGIN:VEVENT
DTSTART;TZID=America/Chicago:20250908T180000
DTEND;TZID=America/Chicago:20250908T190000
DTSTAMP:20260419T203847
CREATED:20250520T120104Z
LAST-MODIFIED:20250722T125326Z
UID:10000122-1757354400-1757358000@dmra.gov
SUMMARY:Pollinators Nature Hike
DESCRIPTION:Registration is Required.  Contact Jen 423.707.5175 or email naturalistjens@protonmail.com
URL:https://dmra.gov/event/pollinators-nature-hike/
LOCATION:TN
END:VEVENT
BEGIN:VEVENT
DTSTART;TZID=America/Chicago:20250906T080000
DTEND;TZID=America/Chicago:20250906T140000
DTSTAMP:20260419T203847
CREATED:20250806T135913Z
LAST-MODIFIED:20250806T135914Z
UID:10000104-1757145600-1757167200@dmra.gov
SUMMARY:Archery Competition (Cancelled)
DESCRIPTION:
URL:https://dmra.gov/event/archery-competition-5-4/
LOCATION:DMRA Adventure Center\, 1203 Harbin Hill Rd\, Mountain City\, TN\, 12601\, United States
ORGANIZER;CN="Jim Swift":MAILTO:maintenance@doetn.com
END:VEVENT
BEGIN:VEVENT
DTSTART;TZID=America/Chicago:20250816T080000
DTEND;TZID=America/Chicago:20250816T140000
DTSTAMP:20260419T203847
CREATED:20250806T134728Z
LAST-MODIFIED:20250806T134730Z
UID:10000102-1755331200-1755352800@dmra.gov
SUMMARY:Archery Competition (Cancelled)
DESCRIPTION:
URL:https://dmra.gov/event/archery-competition-5-3/
LOCATION:DMRA Adventure Center\, 1203 Harbin Hill Rd\, Mountain City\, TN\, 12601\, United States
ORGANIZER;CN="Jim Swift":MAILTO:maintenance@doetn.com
END:VEVENT
BEGIN:VEVENT
DTSTART;TZID=America/Chicago:20250811T183000
DTEND;TZID=America/Chicago:20250811T193000
DTSTAMP:20260419T203847
CREATED:20250520T120019Z
LAST-MODIFIED:20250722T125654Z
UID:10000121-1754937000-1754940600@dmra.gov
SUMMARY:Water is Life Nature Hike
DESCRIPTION:Registration is Required.  Contact Jen 423.707.5175 or email naturalistjens@protonmail.com
URL:https://dmra.gov/event/water-is-life-nature-hike/
LOCATION:TN
END:VEVENT
BEGIN:VEVENT
DTSTART;TZID=America/Chicago:20250721T183000
DTEND;TZID=America/Chicago:20250721T193000
DTSTAMP:20260419T203847
CREATED:20250520T115559Z
LAST-MODIFIED:20250520T115928Z
UID:10000120-1753122600-1753126200@dmra.gov
SUMMARY:Mushrooms Nature Hike
DESCRIPTION:
URL:https://dmra.gov/event/mushrooms-nature-hike/
LOCATION:TN
END:VEVENT
BEGIN:VEVENT
DTSTART;TZID=America/Chicago:20250705T200000
DTEND;TZID=America/Chicago:20250705T220000
DTSTAMP:20260419T203847
CREATED:20250311T155159Z
LAST-MODIFIED:20250610T153010Z
UID:10000115-1751745600-1751752800@dmra.gov
SUMMARY:DMRA Night Ride
DESCRIPTION:
URL:https://dmra.gov/event/independence-day-cookout-night-ride/
LOCATION:DMRA Adventure Center\, 1203 Harbin Hill Rd\, Mountain City\, TN\, 12601\, United States
END:VEVENT
BEGIN:VEVENT
DTSTART;TZID=America/Chicago:20250615T080000
DTEND;TZID=America/Chicago:20250615T140000
DTSTAMP:20260419T203847
CREATED:20250109T153019Z
LAST-MODIFIED:20250610T154520Z
UID:10000123-1749974400-1749996000@dmra.gov
SUMMARY:Archery Competition
DESCRIPTION:
URL:https://dmra.gov/event/archery-competition-5/2025-06-15/
LOCATION:DMRA Adventure Center\, 1203 Harbin Hill Rd\, Mountain City\, TN\, 12601\, United States
ORGANIZER;CN="Jim Swift":MAILTO:maintenance@doetn.com
END:VEVENT
BEGIN:VEVENT
DTSTART;TZID=America/Chicago:20250614T080000
DTEND;TZID=America/Chicago:20250614T140000
DTSTAMP:20260419T203847
CREATED:20250109T153019Z
LAST-MODIFIED:20250610T154520Z
UID:10000098-1749888000-1749909600@dmra.gov
SUMMARY:Archery Competition
DESCRIPTION:
URL:https://dmra.gov/event/archery-competition-5/2025-06-14/
LOCATION:DMRA Adventure Center\, 1203 Harbin Hill Rd\, Mountain City\, TN\, 12601\, United States
ORGANIZER;CN="Jim Swift":MAILTO:maintenance@doetn.com
END:VEVENT
BEGIN:VEVENT
DTSTART;TZID=America/Chicago:20250606T203000
DTEND;TZID=America/Chicago:20250606T213000
DTSTAMP:20260419T203847
CREATED:20250520T115517Z
LAST-MODIFIED:20250520T115806Z
UID:10000119-1749241800-1749245400@dmra.gov
SUMMARY:Fireflies & Creatures of the Night Nature Hike
DESCRIPTION:
URL:https://dmra.gov/event/fireflies-nature-hike/
LOCATION:TN
END:VEVENT
BEGIN:VEVENT
DTSTART;TZID=America/Chicago:20250531T190000
DTEND;TZID=America/Chicago:20250531T220000
DTSTAMP:20260419T203847
CREATED:20250103T203156Z
LAST-MODIFIED:20250103T203156Z
UID:10000091-1748718000-1748728800@dmra.gov
SUMMARY:DMRA Night Ride
DESCRIPTION:
URL:https://dmra.gov/event/dmra-night-ride-2/
LOCATION:TN
END:VEVENT
BEGIN:VEVENT
DTSTART;TZID=America/Chicago:20250531T053000
DTEND;TZID=America/Chicago:20250531T180000
DTSTAMP:20260419T203847
CREATED:20250114T130257Z
LAST-MODIFIED:20250114T130257Z
UID:10000106-1748669400-1748714400@dmra.gov
SUMMARY:Kettlefoot Ultrarun
DESCRIPTION:Click Here to Register!
URL:https://dmra.gov/event/kettlefoot-ultrarun/
LOCATION:DMRA Adventure Center\, 1203 Harbin Hill Rd\, Mountain City\, TN\, 12601\, United States
END:VEVENT
BEGIN:VEVENT
DTSTART;TZID=America/Chicago:20250521T190000
DTEND;TZID=America/Chicago:20250521T210000
DTSTAMP:20260419T203847
CREATED:20250512T152448Z
LAST-MODIFIED:20250512T152448Z
UID:10000118-1747854000-1747861200@dmra.gov
SUMMARY:Amphibians Hike with Jen
DESCRIPTION:
URL:https://dmra.gov/event/amphibians-hike-with-jen-2/
LOCATION:DMRA Adventure Center\, 1203 Harbin Hill Rd\, Mountain City\, TN\, 12601\, United States
END:VEVENT
BEGIN:VEVENT
DTSTART;TZID=America/Chicago:20250517T080000
DTEND;TZID=America/Chicago:20250517T140000
DTSTAMP:20260419T203847
CREATED:20250109T153019Z
LAST-MODIFIED:20250610T154520Z
UID:10000096-1747468800-1747490400@dmra.gov
SUMMARY:Archery Competition
DESCRIPTION:
URL:https://dmra.gov/event/archery-competition-5/2025-05-17/
LOCATION:DMRA Adventure Center\, 1203 Harbin Hill Rd\, Mountain City\, TN\, 12601\, United States
ORGANIZER;CN="Jim Swift":MAILTO:maintenance@doetn.com
END:VEVENT
BEGIN:VEVENT
DTSTART;TZID=America/Chicago:20250512T183000
DTEND;TZID=America/Chicago:20250512T203000
DTSTAMP:20260419T203847
CREATED:20250129T134557Z
LAST-MODIFIED:20250512T152120Z
UID:10000109-1747074600-1747081800@dmra.gov
SUMMARY:Amphibians Hike with Jen (Rescheduled to 5/21 7pm)
DESCRIPTION:
URL:https://dmra.gov/event/amphibians-hike-with-jen/
LOCATION:DMRA Adventure Center\, 1203 Harbin Hill Rd\, Mountain City\, TN\, 12601\, United States
END:VEVENT
BEGIN:VEVENT
DTSTART;TZID=America/Chicago:20250422T180000
DTEND;TZID=America/Chicago:20250422T200000
DTSTAMP:20260419T203847
CREATED:20250129T134501Z
LAST-MODIFIED:20250307T192158Z
UID:10000108-1745344800-1745352000@dmra.gov
SUMMARY:Earth Day Walk with Jen
DESCRIPTION:
URL:https://dmra.gov/event/earth-day-walk-with-jen/
LOCATION:DMRA Adventure Center\, 1203 Harbin Hill Rd\, Mountain City\, TN\, 12601\, United States
END:VEVENT
BEGIN:VEVENT
DTSTART;TZID=America/Chicago:20250329T190000
DTEND;TZID=America/Chicago:20250329T220000
DTSTAMP:20260419T203847
CREATED:20250103T202827Z
LAST-MODIFIED:20250103T202827Z
UID:10000089-1743274800-1743285600@dmra.gov
SUMMARY:DMRA Night Ride
DESCRIPTION:
URL:https://dmra.gov/event/dmra-night-ride/
LOCATION:TN
END:VEVENT
BEGIN:VEVENT
DTSTART;TZID=America/Chicago:20250324T180000
DTEND;TZID=America/Chicago:20250324T200000
DTSTAMP:20260419T203847
CREATED:20250129T134408Z
LAST-MODIFIED:20250307T192108Z
UID:10000107-1742839200-1742846400@dmra.gov
SUMMARY:Ecology Hike with Jen
DESCRIPTION:
URL:https://dmra.gov/event/ecology-hike-with-jen/
LOCATION:DMRA Adventure Center\, 1203 Harbin Hill Rd\, Mountain City\, TN\, 12601\, United States
END:VEVENT
BEGIN:VEVENT
DTSTART;TZID=America/Chicago:20250311T154520
DTEND;TZID=America/Chicago:20250311T154520
DTSTAMP:20260419T203847
CREATED:20250311T154514Z
LAST-MODIFIED:20250311T154520Z
UID:10000094-1741707920-1741707920@dmra.gov
SUMMARY:Archery Competition
DESCRIPTION:
URL:https://dmra.gov/event/archery-competition-5-2/
LOCATION:DMRA Adventure Center\, 1203 Harbin Hill Rd\, Mountain City\, TN\, 12601\, United States
ORGANIZER;CN="Jim Swift":MAILTO:maintenance@doetn.com
END:VEVENT
BEGIN:VEVENT
DTSTART;TZID=America/Chicago:20250301T080000
DTEND;TZID=America/Chicago:20250301T140000
DTSTAMP:20260419T203847
CREATED:20250109T153019Z
LAST-MODIFIED:20250610T154520Z
UID:10000092-1740816000-1740837600@dmra.gov
SUMMARY:Archery Competition
DESCRIPTION:
URL:https://dmra.gov/event/archery-competition-5/2025-03-01/
LOCATION:DMRA Adventure Center\, 1203 Harbin Hill Rd\, Mountain City\, TN\, 12601\, United States
ORGANIZER;CN="Jim Swift":MAILTO:maintenance@doetn.com
END:VEVENT
BEGIN:VEVENT
DTSTART;TZID=America/Chicago:20250214T083000
DTEND;TZID=America/Chicago:20250214T103000
DTSTAMP:20260419T203847
CREATED:20250206T135715Z
LAST-MODIFIED:20250206T135715Z
UID:10000110-1739521800-1739529000@dmra.gov
SUMMARY:Learn the Merlin Bird App with Jen
DESCRIPTION:
URL:https://dmra.gov/event/learn-the-merlin-bird-app-with-jen/
LOCATION:DMRA Adventure Center\, 1203 Harbin Hill Rd\, Mountain City\, TN\, 12601\, United States
END:VEVENT
END:VCALENDAR