BEGIN:VCALENDAR
VERSION:2.0
PRODID:-//Doe Mountain Recreation Area - ECPv6.15.20//NONSGML v1.0//EN
CALSCALE:GREGORIAN
METHOD:PUBLISH
X-WR-CALNAME:Doe Mountain Recreation Area
X-ORIGINAL-URL:https://dmra.gov
X-WR-CALDESC:Events for Doe Mountain Recreation Area
REFRESH-INTERVAL;VALUE=DURATION:PT1H
X-Robots-Tag:noindex
X-PUBLISHED-TTL:PT1H
BEGIN:VTIMEZONE
TZID:America/Chicago
BEGIN:DAYLIGHT
TZOFFSETFROM:-0600
TZOFFSETTO:-0500
TZNAME:CDT
DTSTART:20230312T080000
END:DAYLIGHT
BEGIN:STANDARD
TZOFFSETFROM:-0500
TZOFFSETTO:-0600
TZNAME:CST
DTSTART:20231105T070000
END:STANDARD
BEGIN:DAYLIGHT
TZOFFSETFROM:-0600
TZOFFSETTO:-0500
TZNAME:CDT
DTSTART:20240310T080000
END:DAYLIGHT
BEGIN:STANDARD
TZOFFSETFROM:-0500
TZOFFSETTO:-0600
TZNAME:CST
DTSTART:20241103T070000
END:STANDARD
BEGIN:DAYLIGHT
TZOFFSETFROM:-0600
TZOFFSETTO:-0500
TZNAME:CDT
DTSTART:20250309T080000
END:DAYLIGHT
BEGIN:STANDARD
TZOFFSETFROM:-0500
TZOFFSETTO:-0600
TZNAME:CST
DTSTART:20251102T070000
END:STANDARD
BEGIN:DAYLIGHT
TZOFFSETFROM:-0600
TZOFFSETTO:-0500
TZNAME:CDT
DTSTART:20260308T080000
END:DAYLIGHT
BEGIN:STANDARD
TZOFFSETFROM:-0500
TZOFFSETTO:-0600
TZNAME:CST
DTSTART:20261101T070000
END:STANDARD
END:VTIMEZONE
BEGIN:VEVENT
DTSTART;TZID=America/Chicago:20250531T053000
DTEND;TZID=America/Chicago:20250531T180000
DTSTAMP:20260420T000312
CREATED:20250114T130257Z
LAST-MODIFIED:20250114T130257Z
UID:10000106-1748669400-1748714400@dmra.gov
SUMMARY:Kettlefoot Ultrarun
DESCRIPTION:Click Here to Register!
URL:https://dmra.gov/event/kettlefoot-ultrarun/
LOCATION:DMRA Adventure Center\, 1203 Harbin Hill Rd\, Mountain City\, TN\, 12601\, United States
END:VEVENT
BEGIN:VEVENT
DTSTART;TZID=America/Chicago:20250521T190000
DTEND;TZID=America/Chicago:20250521T210000
DTSTAMP:20260420T000312
CREATED:20250512T152448Z
LAST-MODIFIED:20250512T152448Z
UID:10000118-1747854000-1747861200@dmra.gov
SUMMARY:Amphibians Hike with Jen
DESCRIPTION:
URL:https://dmra.gov/event/amphibians-hike-with-jen-2/
LOCATION:DMRA Adventure Center\, 1203 Harbin Hill Rd\, Mountain City\, TN\, 12601\, United States
END:VEVENT
BEGIN:VEVENT
DTSTART;TZID=America/Chicago:20250517T080000
DTEND;TZID=America/Chicago:20250517T140000
DTSTAMP:20260420T000312
CREATED:20250109T153019Z
LAST-MODIFIED:20250610T154520Z
UID:10000096-1747468800-1747490400@dmra.gov
SUMMARY:Archery Competition
DESCRIPTION:
URL:https://dmra.gov/event/archery-competition-5/2025-05-17/
LOCATION:DMRA Adventure Center\, 1203 Harbin Hill Rd\, Mountain City\, TN\, 12601\, United States
ORGANIZER;CN="Jim Swift":MAILTO:maintenance@doetn.com
END:VEVENT
BEGIN:VEVENT
DTSTART;TZID=America/Chicago:20250512T183000
DTEND;TZID=America/Chicago:20250512T203000
DTSTAMP:20260420T000312
CREATED:20250129T134557Z
LAST-MODIFIED:20250512T152120Z
UID:10000109-1747074600-1747081800@dmra.gov
SUMMARY:Amphibians Hike with Jen (Rescheduled to 5/21 7pm)
DESCRIPTION:
URL:https://dmra.gov/event/amphibians-hike-with-jen/
LOCATION:DMRA Adventure Center\, 1203 Harbin Hill Rd\, Mountain City\, TN\, 12601\, United States
END:VEVENT
BEGIN:VEVENT
DTSTART;TZID=America/Chicago:20250422T180000
DTEND;TZID=America/Chicago:20250422T200000
DTSTAMP:20260420T000312
CREATED:20250129T134501Z
LAST-MODIFIED:20250307T192158Z
UID:10000108-1745344800-1745352000@dmra.gov
SUMMARY:Earth Day Walk with Jen
DESCRIPTION:
URL:https://dmra.gov/event/earth-day-walk-with-jen/
LOCATION:DMRA Adventure Center\, 1203 Harbin Hill Rd\, Mountain City\, TN\, 12601\, United States
END:VEVENT
BEGIN:VEVENT
DTSTART;TZID=America/Chicago:20250329T190000
DTEND;TZID=America/Chicago:20250329T220000
DTSTAMP:20260420T000312
CREATED:20250103T202827Z
LAST-MODIFIED:20250103T202827Z
UID:10000089-1743274800-1743285600@dmra.gov
SUMMARY:DMRA Night Ride
DESCRIPTION:
URL:https://dmra.gov/event/dmra-night-ride/
LOCATION:TN
END:VEVENT
BEGIN:VEVENT
DTSTART;TZID=America/Chicago:20250324T180000
DTEND;TZID=America/Chicago:20250324T200000
DTSTAMP:20260420T000312
CREATED:20250129T134408Z
LAST-MODIFIED:20250307T192108Z
UID:10000107-1742839200-1742846400@dmra.gov
SUMMARY:Ecology Hike with Jen
DESCRIPTION:
URL:https://dmra.gov/event/ecology-hike-with-jen/
LOCATION:DMRA Adventure Center\, 1203 Harbin Hill Rd\, Mountain City\, TN\, 12601\, United States
END:VEVENT
BEGIN:VEVENT
DTSTART;TZID=America/Chicago:20250311T154520
DTEND;TZID=America/Chicago:20250311T154520
DTSTAMP:20260420T000312
CREATED:20250311T154514Z
LAST-MODIFIED:20250311T154520Z
UID:10000094-1741707920-1741707920@dmra.gov
SUMMARY:Archery Competition
DESCRIPTION:
URL:https://dmra.gov/event/archery-competition-5-2/
LOCATION:DMRA Adventure Center\, 1203 Harbin Hill Rd\, Mountain City\, TN\, 12601\, United States
ORGANIZER;CN="Jim Swift":MAILTO:maintenance@doetn.com
END:VEVENT
BEGIN:VEVENT
DTSTART;TZID=America/Chicago:20250301T080000
DTEND;TZID=America/Chicago:20250301T140000
DTSTAMP:20260420T000312
CREATED:20250109T153019Z
LAST-MODIFIED:20250610T154520Z
UID:10000092-1740816000-1740837600@dmra.gov
SUMMARY:Archery Competition
DESCRIPTION:
URL:https://dmra.gov/event/archery-competition-5/2025-03-01/
LOCATION:DMRA Adventure Center\, 1203 Harbin Hill Rd\, Mountain City\, TN\, 12601\, United States
ORGANIZER;CN="Jim Swift":MAILTO:maintenance@doetn.com
END:VEVENT
BEGIN:VEVENT
DTSTART;TZID=America/Chicago:20250214T083000
DTEND;TZID=America/Chicago:20250214T103000
DTSTAMP:20260420T000312
CREATED:20250206T135715Z
LAST-MODIFIED:20250206T135715Z
UID:10000110-1739521800-1739529000@dmra.gov
SUMMARY:Learn the Merlin Bird App with Jen
DESCRIPTION:
URL:https://dmra.gov/event/learn-the-merlin-bird-app-with-jen/
LOCATION:DMRA Adventure Center\, 1203 Harbin Hill Rd\, Mountain City\, TN\, 12601\, United States
END:VEVENT
BEGIN:VEVENT
DTSTART;TZID=America/Chicago:20250101T110000
DTEND;TZID=America/Chicago:20250101T140000
DTSTAMP:20260420T000312
CREATED:20241206T195008Z
LAST-MODIFIED:20241206T195008Z
UID:10000088-1735729200-1735740000@dmra.gov
SUMMARY:First Hike 2025
DESCRIPTION:
URL:https://dmra.gov/event/first-hike-2025/
LOCATION:TN
END:VEVENT
BEGIN:VEVENT
DTSTART;TZID=America/Chicago:20241207T080000
DTEND;TZID=America/Chicago:20241207T163000
DTSTAMP:20260420T000312
CREATED:20241207T140006Z
LAST-MODIFIED:20240208T210706Z
UID:10000040-1733558400-1733589000@dmra.gov
SUMMARY:Toy Drive
DESCRIPTION:
URL:https://dmra.gov/event/toy-drive/
LOCATION:DMRA Adventure Center\, 1203 Harbin Hill Rd\, Mountain City\, TN\, 12601\, United States
ORGANIZER;CN="Charles Ridlehuber":MAILTO:ed@doetn.com
END:VEVENT
BEGIN:VEVENT
DTSTART;TZID=America/Chicago:20241203T130000
DTEND;TZID=America/Chicago:20241203T143000
DTSTAMP:20260420T000312
CREATED:20240214T190244Z
LAST-MODIFIED:20240214T190244Z
UID:10000046-1733230800-1733236200@dmra.gov
SUMMARY:DMRA Board Meeting
DESCRIPTION:
URL:https://dmra.gov/event/dmra-board-meeting/2024-12-03/
LOCATION:DMRA Adventure Center\, 1203 Harbin Hill Rd\, Mountain City\, TN\, 12601\, United States
ORGANIZER;CN="Charles Ridlehuber":MAILTO:ed@doetn.com
END:VEVENT
BEGIN:VEVENT
DTSTART;TZID=America/Chicago:20241109T130000
DTEND;TZID=America/Chicago:20241109T150000
DTSTAMP:20260420T000312
CREATED:20240208T210057Z
LAST-MODIFIED:20240208T210057Z
UID:10000039-1731157200-1731164400@dmra.gov
SUMMARY:Veterans Day Salute
DESCRIPTION:Trail Run 7.5K & 2K
URL:https://dmra.gov/event/veterans-day-salute/
LOCATION:DMRA Adventure Center\, 1203 Harbin Hill Rd\, Mountain City\, TN\, 12601\, United States
ORGANIZER;CN="Charles Ridlehuber":MAILTO:ed@doetn.com
END:VEVENT
BEGIN:VEVENT
DTSTART;TZID=America/Chicago:20241026T160000
DTEND;TZID=America/Chicago:20241026T220000
DTSTAMP:20260420T000312
CREATED:20240208T205928Z
LAST-MODIFIED:20240208T205928Z
UID:10000038-1729958400-1729980000@dmra.gov
SUMMARY:Spooktacular & OHV Night Ride
DESCRIPTION:Halloween Costume Contest and Night Ride
URL:https://dmra.gov/event/spooktacular-ohv-night-ride/
LOCATION:DMRA Adventure Center\, 1203 Harbin Hill Rd\, Mountain City\, TN\, 12601\, United States
ORGANIZER;CN="Cody Howell":MAILTO:events@doetn.com
END:VEVENT
BEGIN:VEVENT
DTSTART;VALUE=DATE:20241019
DTEND;VALUE=DATE:20241020
DTSTAMP:20260420T000312
CREATED:20240208T205717Z
LAST-MODIFIED:20240216T162208Z
UID:10000037-1729296000-1729382399@dmra.gov
SUMMARY:Kettlefoot Trail Run
DESCRIPTION:Ultra Run – 50K\, 25K & 13K \nJoin Us for a scenic trail run!  Runners of all distances will have the opportunity to climb the 60-foot Kettlefoot Fire Tower earning views of Watauga Lake\, Grandfather Mountain and the surrounding Valleys.
URL:https://dmra.gov/event/trail-run/
LOCATION:DMRA Adventure Center\, 1203 Harbin Hill Rd\, Mountain City\, TN\, 12601\, United States
ORGANIZER;CN="Charles Ridlehuber":MAILTO:ed@doetn.com
END:VEVENT
BEGIN:VEVENT
DTSTART;TZID=America/Chicago:20241001T130000
DTEND;TZID=America/Chicago:20241001T143000
DTSTAMP:20260420T000312
CREATED:20240214T190244Z
LAST-MODIFIED:20240214T190244Z
UID:10000045-1727787600-1727793000@dmra.gov
SUMMARY:DMRA Board Meeting
DESCRIPTION:
URL:https://dmra.gov/event/dmra-board-meeting/2024-10-01/
LOCATION:DMRA Adventure Center\, 1203 Harbin Hill Rd\, Mountain City\, TN\, 12601\, United States
ORGANIZER;CN="Charles Ridlehuber":MAILTO:ed@doetn.com
END:VEVENT
BEGIN:VEVENT
DTSTART;TZID=America/Chicago:20240928T190000
DTEND;TZID=America/Chicago:20240928T220000
DTSTAMP:20260420T000312
CREATED:20240208T191432Z
LAST-MODIFIED:20240208T191432Z
UID:10000027-1727550000-1727560800@dmra.gov
SUMMARY:OHV Night Ride
DESCRIPTION:
URL:https://dmra.gov/event/ohv-night-ride/2024-09-28/
LOCATION:DMRA Adventure Center\, 1203 Harbin Hill Rd\, Mountain City\, TN\, 12601\, United States
ORGANIZER;CN="Jim Swift":MAILTO:maintenance@doetn.com
END:VEVENT
BEGIN:VEVENT
DTSTART;TZID=America/Chicago:20240927T063000
DTEND;TZID=America/Chicago:20240927T203000
DTSTAMP:20260420T000312
CREATED:20240208T192437Z
LAST-MODIFIED:20240208T192437Z
UID:10000035-1727418600-1727469000@dmra.gov
SUMMARY:Nature Hike
DESCRIPTION:
URL:https://dmra.gov/event/nature-hike/2024-09-27/
LOCATION:DMRA Adventure Center\, 1203 Harbin Hill Rd\, Mountain City\, TN\, 12601\, United States
ORGANIZER;CN="Cody Howell":MAILTO:events@doetn.com
END:VEVENT
BEGIN:VEVENT
DTSTART;TZID=America/Chicago:20240919T063000
DTEND;TZID=America/Chicago:20240919T203000
DTSTAMP:20260420T000312
CREATED:20240208T192437Z
LAST-MODIFIED:20240208T192437Z
UID:10000034-1726727400-1726777800@dmra.gov
SUMMARY:Nature Hike
DESCRIPTION:
URL:https://dmra.gov/event/nature-hike/2024-09-19/
LOCATION:DMRA Adventure Center\, 1203 Harbin Hill Rd\, Mountain City\, TN\, 12601\, United States
ORGANIZER;CN="Cody Howell":MAILTO:events@doetn.com
END:VEVENT
BEGIN:VEVENT
DTSTART;TZID=America/Chicago:20240831T190000
DTEND;TZID=America/Chicago:20240831T220000
DTSTAMP:20260420T000312
CREATED:20240208T191432Z
LAST-MODIFIED:20240208T191432Z
UID:10000026-1725130800-1725141600@dmra.gov
SUMMARY:OHV Night Ride
DESCRIPTION:
URL:https://dmra.gov/event/ohv-night-ride/2024-08-31/
LOCATION:DMRA Adventure Center\, 1203 Harbin Hill Rd\, Mountain City\, TN\, 12601\, United States
ORGANIZER;CN="Jim Swift":MAILTO:maintenance@doetn.com
END:VEVENT
BEGIN:VEVENT
DTSTART;TZID=America/Chicago:20240824T110000
DTEND;TZID=America/Chicago:20240824T150000
DTSTAMP:20260420T000312
CREATED:20240513T163100Z
LAST-MODIFIED:20240513T163100Z
UID:10000082-1724497200-1724511600@dmra.gov
SUMMARY:Elevated Flavors Food Truck
DESCRIPTION:
URL:https://dmra.gov/event/elevated-flavors-food-truck/2024-08-24/
LOCATION:DMRA Adventure Center\, 1203 Harbin Hill Rd\, Mountain City\, TN\, 12601\, United States
END:VEVENT
BEGIN:VEVENT
DTSTART;TZID=America/Chicago:20240823T063000
DTEND;TZID=America/Chicago:20240823T203000
DTSTAMP:20260420T000312
CREATED:20240208T192437Z
LAST-MODIFIED:20240208T192437Z
UID:10000033-1724394600-1724445000@dmra.gov
SUMMARY:Nature Hike
DESCRIPTION:
URL:https://dmra.gov/event/nature-hike/2024-08-23/
LOCATION:DMRA Adventure Center\, 1203 Harbin Hill Rd\, Mountain City\, TN\, 12601\, United States
ORGANIZER;CN="Cody Howell":MAILTO:events@doetn.com
END:VEVENT
BEGIN:VEVENT
DTSTART;TZID=America/Chicago:20240818T080000
DTEND;TZID=America/Chicago:20240818T150000
DTSTAMP:20260420T000312
CREATED:20240724T125523Z
LAST-MODIFIED:20240724T125523Z
UID:10000086-1723968000-1723993200@dmra.gov
SUMMARY:Archery Competition
DESCRIPTION:
URL:https://dmra.gov/event/archery-competition-3/
LOCATION:DMRA Adventure Center\, 1203 Harbin Hill Rd\, Mountain City\, TN\, 12601\, United States
END:VEVENT
BEGIN:VEVENT
DTSTART;TZID=America/Chicago:20240817T080000
DTEND;TZID=America/Chicago:20240817T150000
DTSTAMP:20260420T000312
CREATED:20240724T125437Z
LAST-MODIFIED:20240724T125437Z
UID:10000085-1723881600-1723906800@dmra.gov
SUMMARY:Archery Competition
DESCRIPTION:
URL:https://dmra.gov/event/archery-competition-2/
LOCATION:DMRA Adventure Center\, 1203 Harbin Hill Rd\, Mountain City\, TN\, 12601\, United States
END:VEVENT
BEGIN:VEVENT
DTSTART;VALUE=DATE:20240817
DTEND;VALUE=DATE:20240819
DTSTAMP:20260420T000312
CREATED:20240702T195207Z
LAST-MODIFIED:20240702T195207Z
UID:10000084-1723852800-1724025599@dmra.gov
SUMMARY:Graham Jarvis One Day Rider Clinic
DESCRIPTION:
URL:https://dmra.gov/event/graham-jarvis-one-day-rider-clinic/
LOCATION:DMRA Adventure Center\, 1203 Harbin Hill Rd\, Mountain City\, TN\, 12601\, United States
ORGANIZER;CN="Cody Howell":MAILTO:events@doetn.com
END:VEVENT
BEGIN:VEVENT
DTSTART;TZID=America/Chicago:20240815T063000
DTEND;TZID=America/Chicago:20240815T203000
DTSTAMP:20260420T000312
CREATED:20240208T192437Z
LAST-MODIFIED:20240208T192437Z
UID:10000032-1723703400-1723753800@dmra.gov
SUMMARY:Nature Hike
DESCRIPTION:
URL:https://dmra.gov/event/nature-hike/2024-08-15/
LOCATION:DMRA Adventure Center\, 1203 Harbin Hill Rd\, Mountain City\, TN\, 12601\, United States
ORGANIZER;CN="Cody Howell":MAILTO:events@doetn.com
END:VEVENT
BEGIN:VEVENT
DTSTART;TZID=America/Chicago:20240806T130000
DTEND;TZID=America/Chicago:20240806T143000
DTSTAMP:20260420T000312
CREATED:20240214T190244Z
LAST-MODIFIED:20240214T190244Z
UID:10000044-1722949200-1722954600@dmra.gov
SUMMARY:DMRA Board Meeting
DESCRIPTION:
URL:https://dmra.gov/event/dmra-board-meeting/2024-08-06/
LOCATION:DMRA Adventure Center\, 1203 Harbin Hill Rd\, Mountain City\, TN\, 12601\, United States
ORGANIZER;CN="Charles Ridlehuber":MAILTO:ed@doetn.com
END:VEVENT
BEGIN:VEVENT
DTSTART;TZID=America/Chicago:20240727T190000
DTEND;TZID=America/Chicago:20240727T220000
DTSTAMP:20260420T000312
CREATED:20240208T191432Z
LAST-MODIFIED:20240208T191432Z
UID:10000025-1722106800-1722117600@dmra.gov
SUMMARY:OHV Night Ride
DESCRIPTION:
URL:https://dmra.gov/event/ohv-night-ride/2024-07-27/
LOCATION:DMRA Adventure Center\, 1203 Harbin Hill Rd\, Mountain City\, TN\, 12601\, United States
ORGANIZER;CN="Jim Swift":MAILTO:maintenance@doetn.com
END:VEVENT
BEGIN:VEVENT
DTSTART;TZID=America/Chicago:20240727T120000
DTEND;TZID=America/Chicago:20240727T180000
DTSTAMP:20260420T000312
CREATED:20240412T135949Z
LAST-MODIFIED:20240420T012732Z
UID:10000068-1722081600-1722103200@dmra.gov
SUMMARY:Elk Mills/Poga Fire Dept. 1st Annual First Responder Rib Cookoff
DESCRIPTION:
URL:https://dmra.gov/event/elk-mills-poga-fire-dept-1st-annual-first-responder-rib-cookoff/
LOCATION:DMRA Adventure Center\, 1203 Harbin Hill Rd\, Mountain City\, TN\, 12601\, United States
END:VEVENT
END:VCALENDAR