BEGIN:VCALENDAR
VERSION:2.0
PRODID:-//Doe Mountain Recreation Area - ECPv6.15.20//NONSGML v1.0//EN
CALSCALE:GREGORIAN
METHOD:PUBLISH
X-ORIGINAL-URL:https://dmra.gov
X-WR-CALDESC:Events for Doe Mountain Recreation Area
REFRESH-INTERVAL;VALUE=DURATION:PT1H
X-Robots-Tag:noindex
X-PUBLISHED-TTL:PT1H
BEGIN:VTIMEZONE
TZID:America/Chicago
BEGIN:DAYLIGHT
TZOFFSETFROM:-0600
TZOFFSETTO:-0500
TZNAME:CDT
DTSTART:20250309T080000
END:DAYLIGHT
BEGIN:STANDARD
TZOFFSETFROM:-0500
TZOFFSETTO:-0600
TZNAME:CST
DTSTART:20251102T070000
END:STANDARD
BEGIN:DAYLIGHT
TZOFFSETFROM:-0600
TZOFFSETTO:-0500
TZNAME:CDT
DTSTART:20260308T080000
END:DAYLIGHT
BEGIN:STANDARD
TZOFFSETFROM:-0500
TZOFFSETTO:-0600
TZNAME:CST
DTSTART:20261101T070000
END:STANDARD
BEGIN:DAYLIGHT
TZOFFSETFROM:-0600
TZOFFSETTO:-0500
TZNAME:CDT
DTSTART:20270314T080000
END:DAYLIGHT
BEGIN:STANDARD
TZOFFSETFROM:-0500
TZOFFSETTO:-0600
TZNAME:CST
DTSTART:20271107T070000
END:STANDARD
END:VTIMEZONE
BEGIN:VEVENT
DTSTART;TZID=America/Chicago:20260504T183000
DTEND;TZID=America/Chicago:20260504T193000
DTSTAMP:20260418T032610
CREATED:20251210T164802Z
LAST-MODIFIED:20260402T205514Z
UID:10000132-1777919400-1777923000@dmra.gov
SUMMARY:Cherokee Ethnobotany Walk
DESCRIPTION:Learn how the Cherokee tribe and early settlers lived in relation to the natural world around them in this place we now call home.
URL:https://dmra.gov/event/cherokee-ethnobotany-walk/
END:VEVENT
BEGIN:VEVENT
DTSTART;VALUE=DATE:20260515
DTEND;VALUE=DATE:20260518
DTSTAMP:20260418T032610
CREATED:20260212T195349Z
LAST-MODIFIED:20260304T210500Z
UID:10000151-1778803200-1779062399@dmra.gov
SUMMARY:NOHVCC Great Trails Workshop
DESCRIPTION:CLICK HERE TO REGISTER! \n \n 
URL:https://dmra.gov/event/nohvcc-great-trails-workshop/
LOCATION:DMRA Adventure Center\, 1203 Harbin Hill Rd\, Mountain City\, TN\, 12601\, United States
END:VEVENT
BEGIN:VEVENT
DTSTART;VALUE=DATE:20260530
DTEND;VALUE=DATE:20260531
DTSTAMP:20260418T032610
CREATED:20251217T191914Z
LAST-MODIFIED:20260402T203403Z
UID:10000138-1780099200-1780185599@dmra.gov
SUMMARY:Ultra Trail Run - 50K/25K/13K
DESCRIPTION:REGISTER FOR THE KETTLEFOOT RACES HERE! \n  \n\n \n 
URL:https://dmra.gov/event/ultra-trail-run-50k-25k-13k/
LOCATION:DMRA Adventure Center\, 1203 Harbin Hill Rd\, Mountain City\, TN\, 12601\, United States
END:VEVENT
BEGIN:VEVENT
DTSTART;TZID=America/Chicago:20260530T200000
DTEND;TZID=America/Chicago:20260530T220000
DTSTAMP:20260418T032610
CREATED:20260122T142336Z
LAST-MODIFIED:20260122T142737Z
UID:10000145-1780171200-1780178400@dmra.gov
SUMMARY:Thrill After Sundown Night Ride
DESCRIPTION:
URL:https://dmra.gov/event/thrill-after-sundown-night-ride-3/
LOCATION:DMRA Adventure Center\, 1203 Harbin Hill Rd\, Mountain City\, TN\, 12601\, United States
END:VEVENT
END:VCALENDAR